BEGIN:VCALENDAR
VERSION:2.0
PRODID:-//Wild In Nature - ECPv6.15.20//NONSGML v1.0//EN
CALSCALE:GREGORIAN
METHOD:PUBLISH
X-ORIGINAL-URL:https://wildinnature.ca
X-WR-CALDESC:Events for Wild In Nature
REFRESH-INTERVAL;VALUE=DURATION:PT1H
X-Robots-Tag:noindex
X-PUBLISHED-TTL:PT1H
BEGIN:VTIMEZONE
TZID:America/Halifax
BEGIN:DAYLIGHT
TZOFFSETFROM:-0400
TZOFFSETTO:-0300
TZNAME:ADT
DTSTART:20170312T060000
END:DAYLIGHT
BEGIN:STANDARD
TZOFFSETFROM:-0300
TZOFFSETTO:-0400
TZNAME:AST
DTSTART:20171105T050000
END:STANDARD
BEGIN:DAYLIGHT
TZOFFSETFROM:-0400
TZOFFSETTO:-0300
TZNAME:ADT
DTSTART:20180311T060000
END:DAYLIGHT
BEGIN:STANDARD
TZOFFSETFROM:-0300
TZOFFSETTO:-0400
TZNAME:AST
DTSTART:20181104T050000
END:STANDARD
BEGIN:DAYLIGHT
TZOFFSETFROM:-0400
TZOFFSETTO:-0300
TZNAME:ADT
DTSTART:20190310T060000
END:DAYLIGHT
BEGIN:STANDARD
TZOFFSETFROM:-0300
TZOFFSETTO:-0400
TZNAME:AST
DTSTART:20191103T050000
END:STANDARD
END:VTIMEZONE
BEGIN:VEVENT
DTSTART;TZID=America/Halifax:20181008T093000
DTEND;TZID=America/Halifax:20181008T113000
DTSTAMP:20260423T110042
CREATED:20180923T141855Z
LAST-MODIFIED:20180923T141855Z
UID:3245-1538991000-1538998200@wildinnature.ca
SUMMARY:Thanksgiving Walk to Crystal Falls
DESCRIPTION:Gear up for the big turkey meal by joining me for a Thanksgiving walk to Crystal Falls\nDirections: \nTake Exit 17 off highway 101\, turn right to Kingston and then left at the lights to Greenwood-proceed to the Greenwood mall\nGo past the Greenwood Mall and across from Walmart\, turn right at the Enviro Depot onto Rocknotch Road.\nCross a one lane bridge and come to a T in the road\,where you will take a left turn\, then right onto a dirt road. There is a red barn on the corner. This is still Rocknotch Road.\nContinue until you come to a T in the road\,then turn left on Harmony Road\, crossing a one lane bridge.\nAt the top of the hill\, park along the road.\nThe hike begins at the first dirt lane on your right.ry
URL:https://wildinnature.ca/event/thanksgiving-walk-to-crystal-falls/
CATEGORIES:Hiking,Waterfalls
END:VEVENT
END:VCALENDAR